BEGIN:VCALENDAR
VERSION:2.0
PRODID:-//Neat Jane&#039;s Tea House - ECPv4.6.11.1//NONSGML v1.0//EN
CALSCALE:GREGORIAN
METHOD:PUBLISH
X-WR-CALNAME:Neat Jane&#039;s Tea House
X-ORIGINAL-URL:https://neatjanesteahouse.com.au
X-WR-CALDESC:Events for Neat Jane&#039;s Tea House
BEGIN:VEVENT
DTSTART;TZID=Australia/Sydney:20180218T090000
DTEND;TZID=Australia/Sydney:20180218T140000
DTSTAMP:20180224T190921
CREATED:20170906T044708Z
LAST-MODIFIED:20180129T111202Z
UID:1960-1518944400-1518962400@neatjanesteahouse.com.au
SUMMARY:That Great Market at Lindfield
DESCRIPTION: \nEast Lindfield Community Hall is the venue for our market\, which is held on Sunday 15th October. \nThere is plenty of car parking available. \nCome & visit us and view and smell our new products as well as our regular products. It will be a very good day for the family. \n
URL:https://neatjanesteahouse.com.au/event/wahroonga-public-school-spring-fair/
LOCATION:9 Wellington Road\, East Lindfield\, NSW\, 2070\, Australia
END:VEVENT
BEGIN:VEVENT
DTSTART;TZID=Australia/Sydney:20180225T080000
DTEND;TZID=Australia/Sydney:20180225T130000
DTSTAMP:20180224T190921
CREATED:20170928T123533Z
LAST-MODIFIED:20180129T111313Z
UID:2174-1519545600-1519563600@neatjanesteahouse.com.au
SUMMARY:Glenorie Growers Market
DESCRIPTION:Glenorie RSL Club grounds is the venue for Glenorie Growers’ Market\, which is held on the 4th Sunday of each month. \nThe Glenorie RSL is located behind Woolworths. There is plenty of car parking available at the Glenorie RSL Club. \n
URL:https://neatjanesteahouse.com.au/event/glenorie-growers-market/
LOCATION:3 Post Office road\, Glenorie\, NSW\, 2157\, Australia
ATTACH;FMTTYPE=image/png:https://neatjanesteahouse.com.au/njthwp/wp-content/uploads/2017/09/growers-logo.png
END:VEVENT
END:VCALENDAR